BEGIN:VCALENDAR
VERSION:2.0
CALSCALE:GREGORIAN
PRODID:-//Diputació de Barcelona//DibaCMS//EN
BEGIN:VEVENT
UID:1524
DTSTAMP:20260420T151237
DTSTART:20201215T000000
DTEND:20201215T000000
SUMMARY:Formació en el nou web
LOCATION:Plaça de la Vila, 1  08105 Sant Fost de Campsentelles
METHOD:PUBLISH
X-WR-CALNAME:ajuntament@santfost.cat
X-WR-TIMEZONE:Europe/Madrid
DESCRIPTION:
URI:https://www.santfost.cat/actualitat/agenda/formacio-en-el-nou-web.html
CLASS:PUBLIC
END:VEVENT
END:VCALENDAR
