BEGIN:VCALENDAR
VERSION:2.0
CALSCALE:GREGORIAN
PRODID:-//Diputació de Barcelona//DibaCMS//EN
BEGIN:VEVENT
UID:4887
DTSTAMP:20260423T115017
DTSTART:20140725T223000
DTEND:20140725T223000
SUMMARY:Espectacle Piromusical 
LOCATION:
METHOD:PUBLISH
X-WR-CALNAME:ajuntament@santfost.cat
X-WR-TIMEZONE:Europe/Madrid
DESCRIPTION:
URI:https://www.santfost.cat/actualitat/agenda/espectacle-piromusical-.html
CLASS:PUBLIC
END:VEVENT
END:VCALENDAR
