BEGIN:VCALENDAR
VERSION:2.0
CALSCALE:GREGORIAN
PRODID:-//Diputació de Barcelona//DibaCMS//EN
BEGIN:VEVENT
UID:5746
DTSTAMP:20260424T195514
DTSTART:20170212T153000
DTEND:20170212T153000
SUMMARY:Presentació del Club Barri Can Calet Futbol Sala
LOCATION:
METHOD:PUBLISH
X-WR-CALNAME:ajuntament@santfost.cat
X-WR-TIMEZONE:Europe/Madrid
DESCRIPTION:
URI:https://www.santfost.cat/actualitat/agenda/presentacio-del-club-barri-can-calet-futbol-sala.html
CLASS:PUBLIC
END:VEVENT
END:VCALENDAR
