BEGIN:VCALENDAR
VERSION:2.0
CALSCALE:GREGORIAN
PRODID:-//Diputació de Barcelona//DibaCMS//EN
BEGIN:VEVENT
UID:5748
DTSTAMP:20260424T212813
DTSTART:20170223T190000
DTEND:20170223T190000
SUMMARY:Library Talks (converses en anglès) Stephen Hawking and the triumph of the mind
LOCATION:
METHOD:PUBLISH
X-WR-CALNAME:ajuntament@santfost.cat
X-WR-TIMEZONE:Europe/Madrid
DESCRIPTION:
URI:https://www.santfost.cat/actualitat/agenda/library-talks-converses-en-angles-stephen-hawking-and-the-triumph-of-the-mind.html
CLASS:PUBLIC
END:VEVENT
END:VCALENDAR
