BEGIN:VCALENDAR
VERSION:2.0
CALSCALE:GREGORIAN
PRODID:-//Diputació de Barcelona//DibaCMS//EN
BEGIN:VEVENT
UID:5757
DTSTAMP:20260424T145525
DTSTART:20170303T190000
DTEND:20170303T190000
SUMMARY:Exposició de pintura - Dia de la Dona 2017

LOCATION:
METHOD:PUBLISH
X-WR-CALNAME:ajuntament@santfost.cat
X-WR-TIMEZONE:Europe/Madrid
DESCRIPTION:
URI:https://www.santfost.cat/actualitat/agenda/exposicio-de-pintura-dia-de-la-dona-2017.html
CLASS:PUBLIC
END:VEVENT
END:VCALENDAR
