BEGIN:VCALENDAR
VERSION:2.0
CALSCALE:GREGORIAN
PRODID:-//Diputació de Barcelona//DibaCMS//EN
BEGIN:VEVENT
UID:5760
DTSTAMP:20260424T181739
DTSTART:20170306T163000
DTEND:20170306T163000
SUMMARY:Jornada de Portes Obertes Institut Alba del Vallès
LOCATION:
METHOD:PUBLISH
X-WR-CALNAME:ajuntament@santfost.cat
X-WR-TIMEZONE:Europe/Madrid
DESCRIPTION:
URI:https://www.santfost.cat/actualitat/agenda/jornada-de-portes-obertes-institut-alba-del-valles.html
CLASS:PUBLIC
END:VEVENT
END:VCALENDAR
