BEGIN:VCALENDAR
VERSION:2.0
CALSCALE:GREGORIAN
PRODID:-//Diputació de Barcelona//DibaCMS//EN
BEGIN:VEVENT
UID:5763
DTSTAMP:20260425T002538
DTSTART:20170311T110000
DTEND:20170311T110000
SUMMARY:Taller de cuina per a adults Cuinem amb vi
LOCATION:
METHOD:PUBLISH
X-WR-CALNAME:ajuntament@santfost.cat
X-WR-TIMEZONE:Europe/Madrid
DESCRIPTION:
URI:https://www.santfost.cat/actualitat/agenda/taller-de-cuina-per-a-adults-cuinem-amb-vi.html
CLASS:PUBLIC
END:VEVENT
END:VCALENDAR
