BEGIN:VCALENDAR
VERSION:2.0
CALSCALE:GREGORIAN
PRODID:-//Diputació de Barcelona//DibaCMS//EN
BEGIN:VEVENT
UID:5767
DTSTAMP:20260424T150220
DTSTART:20170314T151500
DTEND:20170314T151500
SUMMARY:Jornada de Portes Obertes de l'Escola Joaquim Abril
LOCATION:
METHOD:PUBLISH
X-WR-CALNAME:ajuntament@santfost.cat
X-WR-TIMEZONE:Europe/Madrid
DESCRIPTION:
URI:https://www.santfost.cat/actualitat/agenda/jornada-de-portes-obertes-de-lescola-joaquim-abril.html
CLASS:PUBLIC
END:VEVENT
END:VCALENDAR
