BEGIN:VCALENDAR
VERSION:2.0
CALSCALE:GREGORIAN
PRODID:-//Diputació de Barcelona//DibaCMS//EN
BEGIN:VEVENT
UID:5772
DTSTAMP:20260424T193054
DTSTART:20170320T183000
DTEND:20170320T183000
SUMMARY:Xerrades per a pares i mares: Sobreviure a un adolescent
LOCATION:
METHOD:PUBLISH
X-WR-CALNAME:ajuntament@santfost.cat
X-WR-TIMEZONE:Europe/Madrid
DESCRIPTION:
URI:https://www.santfost.cat/actualitat/agenda/xerrades-per-a-pares-i-mares-sobreviure-a-un-adolescent.html
CLASS:PUBLIC
END:VEVENT
END:VCALENDAR
