BEGIN:VCALENDAR
VERSION:2.0
CALSCALE:GREGORIAN
PRODID:-//Diputació de Barcelona//DibaCMS//EN
BEGIN:VEVENT
UID:5779
DTSTAMP:20260424T195841
DTSTART:20170325T110000
DTEND:20170325T110000
SUMMARY:Taller de manualitats - La Corba camina i recull: reciclatge d'ampolles de vi
LOCATION:
METHOD:PUBLISH
X-WR-CALNAME:ajuntament@santfost.cat
X-WR-TIMEZONE:Europe/Madrid
DESCRIPTION:
URI:https://www.santfost.cat/actualitat/agenda/taller-de-manualitats-la-corba-camina-i-recull-reciclatge-dampolles-de-vi.html
CLASS:PUBLIC
END:VEVENT
END:VCALENDAR
