BEGIN:VCALENDAR
VERSION:2.0
CALSCALE:GREGORIAN
PRODID:-//Diputació de Barcelona//DibaCMS//EN
BEGIN:VEVENT
UID:5780
DTSTAMP:20260424T103532
DTSTART:20170325T160000
DTEND:20170325T160000
SUMMARY:Audició de l'Escola de Música març 2017
LOCATION:
METHOD:PUBLISH
X-WR-CALNAME:ajuntament@santfost.cat
X-WR-TIMEZONE:Europe/Madrid
DESCRIPTION:
URI:https://www.santfost.cat/actualitat/agenda/audicio-de-lescola-de-musica-marc-2017.html
CLASS:PUBLIC
END:VEVENT
END:VCALENDAR
