BEGIN:VCALENDAR
VERSION:2.0
CALSCALE:GREGORIAN
PRODID:-//Diputació de Barcelona//DibaCMS//EN
BEGIN:VEVENT
UID:5791
DTSTAMP:20260424T133638
DTSTART:20170407T193000
DTEND:20170407T193000
SUMMARY:Presentació llibre Fem Memòria "50 anys del Pessebre Vivent de Sant Fost"
LOCATION:
METHOD:PUBLISH
X-WR-CALNAME:ajuntament@santfost.cat
X-WR-TIMEZONE:Europe/Madrid
DESCRIPTION:
URI:https://www.santfost.cat/actualitat/agenda/presentacio-llibre-fem-memoria-50-anys-del-pessebre-vivent-de-sant-fost.html
CLASS:PUBLIC
END:VEVENT
END:VCALENDAR
