BEGIN:VCALENDAR
VERSION:2.0
CALSCALE:GREGORIAN
PRODID:-//Diputació de Barcelona//DibaCMS//EN
BEGIN:VEVENT
UID:5798
DTSTAMP:20260424T132655
DTSTART:20170423T100000
DTEND:20170423T100000
SUMMARY:Taller de Manualitats de Sant Jordi 
LOCATION:
METHOD:PUBLISH
X-WR-CALNAME:ajuntament@santfost.cat
X-WR-TIMEZONE:Europe/Madrid
DESCRIPTION:
URI:https://www.santfost.cat/actualitat/agenda/taller-de-manualitats-de-sant-jordi-.html
CLASS:PUBLIC
END:VEVENT
END:VCALENDAR
