BEGIN:VCALENDAR
VERSION:2.0
CALSCALE:GREGORIAN
PRODID:-//Diputació de Barcelona//DibaCMS//EN
BEGIN:VEVENT
UID:5799
DTSTAMP:20260424T145627
DTSTART:20170423T120000
DTEND:20170423T120000
SUMMARY:Espectacle La Llegenda de Sant Jordi
LOCATION:
METHOD:PUBLISH
X-WR-CALNAME:ajuntament@santfost.cat
X-WR-TIMEZONE:Europe/Madrid
DESCRIPTION:
URI:https://www.santfost.cat/actualitat/agenda/espectacle-la-llegenda-de-sant-jordi.html
CLASS:PUBLIC
END:VEVENT
END:VCALENDAR
