BEGIN:VCALENDAR
VERSION:2.0
CALSCALE:GREGORIAN
PRODID:-//Diputació de Barcelona//DibaCMS//EN
BEGIN:VEVENT
UID:5801
DTSTAMP:20260424T093018
DTSTART:20170425T210000
DTEND:20170425T210000
SUMMARY:Ple Ordinari 25 d'abril de 2017
LOCATION:
METHOD:PUBLISH
X-WR-CALNAME:ajuntament@santfost.cat
X-WR-TIMEZONE:Europe/Madrid
DESCRIPTION:
URI:https://www.santfost.cat/actualitat/agenda/ple-ordinari-25-dabril-de-2017.html
CLASS:PUBLIC
END:VEVENT
END:VCALENDAR
