BEGIN:VCALENDAR
VERSION:2.0
CALSCALE:GREGORIAN
PRODID:-//Diputació de Barcelona//DibaCMS//EN
BEGIN:VEVENT
UID:5802
DTSTAMP:20260424T082832
DTSTART:20170427T160000
DTEND:20170427T160000
SUMMARY:Jornada de Portes Obertes Escola Bressol El Petit Roure
LOCATION:
METHOD:PUBLISH
X-WR-CALNAME:ajuntament@santfost.cat
X-WR-TIMEZONE:Europe/Madrid
DESCRIPTION:
URI:https://www.santfost.cat/actualitat/agenda/5802-jornada-de-portes-obertes-escola-bressol-el-petit-roure.html
CLASS:PUBLIC
END:VEVENT
END:VCALENDAR
