BEGIN:VCALENDAR
VERSION:2.0
CALSCALE:GREGORIAN
PRODID:-//Diputació de Barcelona//DibaCMS//EN
BEGIN:VEVENT
UID:5803
DTSTAMP:20260424T081316
DTSTART:20170427T190000
DTEND:20170427T190000
SUMMARY:Library Talks (converses en anglès) "Pablo Picasso and the life of a visionary" 
LOCATION:
METHOD:PUBLISH
X-WR-CALNAME:ajuntament@santfost.cat
X-WR-TIMEZONE:Europe/Madrid
DESCRIPTION:
URI:https://www.santfost.cat/actualitat/agenda/library-talks-converses-en-angles-pablo-picasso-and-the-life-of-a-visionary-.html
CLASS:PUBLIC
END:VEVENT
END:VCALENDAR
