BEGIN:VCALENDAR
VERSION:2.0
CALSCALE:GREGORIAN
PRODID:-//Diputació de Barcelona//DibaCMS//EN
BEGIN:VEVENT
UID:5806
DTSTAMP:20260424T064700
DTSTART:20170429T000000
DTEND:20170429T000000
SUMMARY:Ball de saló abril 2017
LOCATION:
METHOD:PUBLISH
X-WR-CALNAME:ajuntament@santfost.cat
X-WR-TIMEZONE:Europe/Madrid
DESCRIPTION:
URI:https://www.santfost.cat/actualitat/agenda/ball-de-salo-abril-2017.html
CLASS:PUBLIC
END:VEVENT
END:VCALENDAR
