BEGIN:VCALENDAR
VERSION:2.0
CALSCALE:GREGORIAN
PRODID:-//Diputació de Barcelona//DibaCMS//EN
BEGIN:VEVENT
UID:5809
DTSTAMP:20260424T073834
DTSTART:20170506T120000
DTEND:20170506T120000
SUMMARY:8es Jornades de Protecció civil-
Inauguració de les Jornades

LOCATION:
METHOD:PUBLISH
X-WR-CALNAME:ajuntament@santfost.cat
X-WR-TIMEZONE:Europe/Madrid
DESCRIPTION:
URI:https://www.santfost.cat/actualitat/agenda/8es-jornades-de-proteccio-civil-inauguracio-de-les-jornades.html
CLASS:PUBLIC
END:VEVENT
END:VCALENDAR
