BEGIN:VCALENDAR
VERSION:2.0
CALSCALE:GREGORIAN
PRODID:-//Diputació de Barcelona//DibaCMS//EN
BEGIN:VEVENT
UID:5810
DTSTAMP:20260424T121923
DTSTART:20170506T160000
DTEND:20170506T160000
SUMMARY:8es Jornades de Protecció Civil - Batejos aquàtics
LOCATION:
METHOD:PUBLISH
X-WR-CALNAME:ajuntament@santfost.cat
X-WR-TIMEZONE:Europe/Madrid
DESCRIPTION:
URI:https://www.santfost.cat/actualitat/agenda/8es-jornades-de-proteccio-civil-batejos-aquatics.html
CLASS:PUBLIC
END:VEVENT
END:VCALENDAR
