BEGIN:VCALENDAR
VERSION:2.0
CALSCALE:GREGORIAN
PRODID:-//Diputació de Barcelona//DibaCMS//EN
BEGIN:VEVENT
UID:5812
DTSTAMP:20260424T051553
DTSTART:20170507T093000
DTEND:20170507T093000
SUMMARY:8es Jornades de Protecció Civil- Arribada i aterratge dels mitjans aeris
LOCATION:
METHOD:PUBLISH
X-WR-CALNAME:ajuntament@santfost.cat
X-WR-TIMEZONE:Europe/Madrid
DESCRIPTION:
URI:https://www.santfost.cat/actualitat/agenda/8es-jornades-de-proteccio-civil-arribada-i-aterratge-dels-mitjans-aeris.html
CLASS:PUBLIC
END:VEVENT
END:VCALENDAR
