BEGIN:VCALENDAR
VERSION:2.0
CALSCALE:GREGORIAN
PRODID:-//Diputació de Barcelona//DibaCMS//EN
BEGIN:VEVENT
UID:5817
DTSTAMP:20260424T051719
DTSTART:20170514T000000
DTEND:20170514T000000
SUMMARY:Mercat Solidari de 2ª mà 
LOCATION:
METHOD:PUBLISH
X-WR-CALNAME:ajuntament@santfost.cat
X-WR-TIMEZONE:Europe/Madrid
DESCRIPTION:
URI:https://www.santfost.cat/actualitat/agenda/mercat-solidari-de-2a-ma-.html
CLASS:PUBLIC
END:VEVENT
END:VCALENDAR
