BEGIN:VCALENDAR
VERSION:2.0
CALSCALE:GREGORIAN
PRODID:-//Diputació de Barcelona//DibaCMS//EN
BEGIN:VEVENT
UID:5819
DTSTAMP:20260424T094127
DTSTART:20170518T000000
DTEND:20170518T000000
SUMMARY:Taller "Hi ha pares i mares perfectes?"
LOCATION:
METHOD:PUBLISH
X-WR-CALNAME:ajuntament@santfost.cat
X-WR-TIMEZONE:Europe/Madrid
DESCRIPTION:
URI:https://www.santfost.cat/actualitat/agenda/taller-hi-ha-pares-i-mares-perfectes.html
CLASS:PUBLIC
END:VEVENT
END:VCALENDAR
