BEGIN:VCALENDAR
VERSION:2.0
CALSCALE:GREGORIAN
PRODID:-//Diputació de Barcelona//DibaCMS//EN
BEGIN:VEVENT
UID:5820
DTSTAMP:20260424T105028
DTSTART:20170519T143000
DTEND:20170519T143000
SUMMARY:Darrer dia presentació Concurs de Cartells de Festa Major 2017
LOCATION:
METHOD:PUBLISH
X-WR-CALNAME:ajuntament@santfost.cat
X-WR-TIMEZONE:Europe/Madrid
DESCRIPTION:
URI:https://www.santfost.cat/actualitat/agenda/darrer-dia-presentacio-concurs-de-cartells-de-festa-major-2017.html
CLASS:PUBLIC
END:VEVENT
END:VCALENDAR
