BEGIN:VCALENDAR
VERSION:2.0
CALSCALE:GREGORIAN
PRODID:-//Diputació de Barcelona//DibaCMS//EN
BEGIN:VEVENT
UID:5821
DTSTAMP:20260424T080753
DTSTART:20170521T000000
DTEND:20170521T000000
SUMMARY:Festival de l'Associació d'Amics dels Balls de Saló
LOCATION:
METHOD:PUBLISH
X-WR-CALNAME:ajuntament@santfost.cat
X-WR-TIMEZONE:Europe/Madrid
DESCRIPTION:
URI:https://www.santfost.cat/actualitat/agenda/festival-de-lassociacio-damics-dels-balls-de-salo.html
CLASS:PUBLIC
END:VEVENT
END:VCALENDAR
