BEGIN:VCALENDAR
VERSION:2.0
CALSCALE:GREGORIAN
PRODID:-//Diputació de Barcelona//DibaCMS//EN
BEGIN:VEVENT
UID:5822
DTSTAMP:20260424T082955
DTSTART:20170521T000000
DTEND:20170521T000000
SUMMARY:Primer Concurs de pintura ràpida "Pedro Castaño"
LOCATION:
METHOD:PUBLISH
X-WR-CALNAME:ajuntament@santfost.cat
X-WR-TIMEZONE:Europe/Madrid
DESCRIPTION:
URI:https://www.santfost.cat/actualitat/agenda/primer-concurs-de-pintura-rapida-pedro-castano.html
CLASS:PUBLIC
END:VEVENT
END:VCALENDAR
