BEGIN:VCALENDAR
VERSION:2.0
CALSCALE:GREGORIAN
PRODID:-//Diputació de Barcelona//DibaCMS//EN
BEGIN:VEVENT
UID:5824
DTSTAMP:20260424T110530
DTSTART:20170523T190000
DTEND:20170523T190000
SUMMARY:Inauguració Exposició de dibuixos i pintures dels alumnes de Maite Vivancos i Antonio Leoz
LOCATION:
METHOD:PUBLISH
X-WR-CALNAME:ajuntament@santfost.cat
X-WR-TIMEZONE:Europe/Madrid
DESCRIPTION:
URI:https://www.santfost.cat/actualitat/agenda/inauguracio-exposicio-de-dibuixos-i-pintures-dels-alumnes-de-maite-vivancos-i-antonio-leoz.html
CLASS:PUBLIC
END:VEVENT
END:VCALENDAR
