BEGIN:VCALENDAR
VERSION:2.0
CALSCALE:GREGORIAN
PRODID:-//Diputació de Barcelona//DibaCMS//EN
BEGIN:VEVENT
UID:5825
DTSTAMP:20260424T110146
DTSTART:20170525T190000
DTEND:20170525T190000
SUMMARY:Library Talks (converses en anglès) Coc Chanel and the World of Fashion
LOCATION:
METHOD:PUBLISH
X-WR-CALNAME:ajuntament@santfost.cat
X-WR-TIMEZONE:Europe/Madrid
DESCRIPTION:
URI:https://www.santfost.cat/actualitat/agenda/library-talks-converses-en-angles-coc-chanel-and-the-world-of-fashion.html
CLASS:PUBLIC
END:VEVENT
END:VCALENDAR
