BEGIN:VCALENDAR
VERSION:2.0
CALSCALE:GREGORIAN
PRODID:-//Diputació de Barcelona//DibaCMS//EN
BEGIN:VEVENT
UID:5826
DTSTAMP:20260424T132720
DTSTART:20170527T110000
DTEND:20170527T110000
SUMMARY:Contes per nadons "Golafrot músic"
LOCATION:
METHOD:PUBLISH
X-WR-CALNAME:ajuntament@santfost.cat
X-WR-TIMEZONE:Europe/Madrid
DESCRIPTION:
URI:https://www.santfost.cat/actualitat/agenda/contes-per-nadons-golafrot-music.html
CLASS:PUBLIC
END:VEVENT
END:VCALENDAR
