BEGIN:VCALENDAR
VERSION:2.0
CALSCALE:GREGORIAN
PRODID:-//Diputació de Barcelona//DibaCMS//EN
BEGIN:VEVENT
UID:5829
DTSTAMP:20260424T064511
DTSTART:20170527T000000
DTEND:20170527T000000
SUMMARY:Fase Comarcal Patinatge del Consell Esportiu del Vallès Oriental
LOCATION:
METHOD:PUBLISH
X-WR-CALNAME:ajuntament@santfost.cat
X-WR-TIMEZONE:Europe/Madrid
DESCRIPTION:
URI:https://www.santfost.cat/actualitat/agenda/fase-comarcal-patinatge-del-consell-esportiu-del-valles-oriental.html
CLASS:PUBLIC
END:VEVENT
END:VCALENDAR
