BEGIN:VCALENDAR
VERSION:2.0
CALSCALE:GREGORIAN
PRODID:-//Diputació de Barcelona//DibaCMS//EN
BEGIN:VEVENT
UID:5831
DTSTAMP:20260424T051847
DTSTART:20170528T000000
DTEND:20170528T000000
SUMMARY:3x3 bàsquet de la UE Sant Fost Bàsquet 2017
LOCATION:
METHOD:PUBLISH
X-WR-CALNAME:ajuntament@santfost.cat
X-WR-TIMEZONE:Europe/Madrid
DESCRIPTION:
URI:https://www.santfost.cat/actualitat/agenda/3x3-basquet-de-la-ue-sant-fost-basquet-2017.html
CLASS:PUBLIC
END:VEVENT
END:VCALENDAR
