BEGIN:VCALENDAR
VERSION:2.0
CALSCALE:GREGORIAN
PRODID:-//Diputació de Barcelona//DibaCMS//EN
BEGIN:VEVENT
UID:5833
DTSTAMP:20260424T074140
DTSTART:20170529T000000
DTEND:20170529T000000
SUMMARY:Taller de reeducació postural
LOCATION:
METHOD:PUBLISH
X-WR-CALNAME:ajuntament@santfost.cat
X-WR-TIMEZONE:Europe/Madrid
DESCRIPTION:
URI:https://www.santfost.cat/actualitat/agenda/taller-de-reeducacio-postural.html
CLASS:PUBLIC
END:VEVENT
END:VCALENDAR
