BEGIN:VCALENDAR
VERSION:2.0
CALSCALE:GREGORIAN
PRODID:-//Diputació de Barcelona//DibaCMS//EN
BEGIN:VEVENT
UID:5834
DTSTAMP:20260424T122036
DTSTART:20170601T190000
DTEND:20170601T190000
SUMMARY:Club de lectura: Joyce i les gallines d'Anna Ballbona
LOCATION:
METHOD:PUBLISH
X-WR-CALNAME:ajuntament@santfost.cat
X-WR-TIMEZONE:Europe/Madrid
DESCRIPTION:
URI:https://www.santfost.cat/actualitat/agenda/club-de-lectura-joyce-i-les-gallines-danna-ballbona.html
CLASS:PUBLIC
END:VEVENT
END:VCALENDAR
