BEGIN:VCALENDAR
VERSION:2.0
CALSCALE:GREGORIAN
PRODID:-//Diputació de Barcelona//DibaCMS//EN
BEGIN:VEVENT
UID:5840
DTSTAMP:20260424T115826
DTSTART:20170610T000000
DTEND:20170610T000000
SUMMARY:24 h. de Bàsquet a Sant Fost
LOCATION:
METHOD:PUBLISH
X-WR-CALNAME:ajuntament@santfost.cat
X-WR-TIMEZONE:Europe/Madrid
DESCRIPTION:
URI:https://www.santfost.cat/actualitat/agenda/24-h-de-basquet-a-sant-fost.html
CLASS:PUBLIC
END:VEVENT
END:VCALENDAR
