BEGIN:VCALENDAR
VERSION:2.0
CALSCALE:GREGORIAN
PRODID:-//Diputació de Barcelona//DibaCMS//EN
BEGIN:VEVENT
UID:5844
DTSTAMP:20260424T195607
DTSTART:20170623T203000
DTEND:20170623T203000
SUMMARY:Revetlla de Sant Joan - Flama del Canigó 
LOCATION:
METHOD:PUBLISH
X-WR-CALNAME:ajuntament@santfost.cat
X-WR-TIMEZONE:Europe/Madrid
DESCRIPTION:
URI:https://www.santfost.cat/actualitat/agenda/revetlla-de-sant-joan-flama-del-canigo-.html
CLASS:PUBLIC
END:VEVENT
END:VCALENDAR
