BEGIN:VCALENDAR
VERSION:2.0
CALSCALE:GREGORIAN
PRODID:-//Diputació de Barcelona//DibaCMS//EN
BEGIN:VEVENT
UID:5845
DTSTAMP:20260424T132528
DTSTART:20170623T220000
DTEND:20170623T220000
SUMMARY:Revetlla de Sant Joan 
LOCATION:
METHOD:PUBLISH
X-WR-CALNAME:ajuntament@santfost.cat
X-WR-TIMEZONE:Europe/Madrid
DESCRIPTION:
URI:https://www.santfost.cat/actualitat/agenda/revetlla-de-sant-joan-.html
CLASS:PUBLIC
END:VEVENT
END:VCALENDAR
