BEGIN:VCALENDAR
VERSION:2.0
CALSCALE:GREGORIAN
PRODID:-//Diputació de Barcelona//DibaCMS//EN
BEGIN:VEVENT
UID:5852
DTSTAMP:20260424T050750
DTSTART:20170630T210000
DTEND:20170630T210000
SUMMARY:Botifarrada popular
LOCATION:
METHOD:PUBLISH
X-WR-CALNAME:ajuntament@santfost.cat
X-WR-TIMEZONE:Europe/Madrid
DESCRIPTION:
URI:https://www.santfost.cat/actualitat/agenda/5852-botifarrada-popular.html
CLASS:PUBLIC
END:VEVENT
END:VCALENDAR
