BEGIN:VCALENDAR
VERSION:2.0
CALSCALE:GREGORIAN
PRODID:-//Diputació de Barcelona//DibaCMS//EN
BEGIN:VEVENT
UID:5857
DTSTAMP:20260424T051746
DTSTART:20170707T223000
DTEND:20170707T223000
SUMMARY:Improshow
LOCATION:
METHOD:PUBLISH
X-WR-CALNAME:ajuntament@santfost.cat
X-WR-TIMEZONE:Europe/Madrid
DESCRIPTION:
URI:https://www.santfost.cat/actualitat/agenda/improshow.html
CLASS:PUBLIC
END:VEVENT
END:VCALENDAR
