BEGIN:VCALENDAR
VERSION:2.0
CALSCALE:GREGORIAN
PRODID:-//Diputació de Barcelona//DibaCMS//EN
BEGIN:VEVENT
UID:5867
DTSTAMP:20260423T224903
DTSTART:20170718T173000
DTEND:20170718T173000
SUMMARY:Bibliojocs
LOCATION:
METHOD:PUBLISH
X-WR-CALNAME:ajuntament@santfost.cat
X-WR-TIMEZONE:Europe/Madrid
DESCRIPTION:
URI:https://www.santfost.cat/actualitat/agenda/bibliojocs.html
CLASS:PUBLIC
END:VEVENT
END:VCALENDAR
