BEGIN:VCALENDAR
VERSION:2.0
CALSCALE:GREGORIAN
PRODID:-//Diputació de Barcelona//DibaCMS//EN
BEGIN:VEVENT
UID:5871
DTSTAMP:20260424T023140
DTSTART:20170722T223000
DTEND:20170722T223000
SUMMARY:Albarikus blues band
LOCATION:
METHOD:PUBLISH
X-WR-CALNAME:ajuntament@santfost.cat
X-WR-TIMEZONE:Europe/Madrid
DESCRIPTION:
URI:https://www.santfost.cat/actualitat/agenda/albarikus-blues-band.html
CLASS:PUBLIC
END:VEVENT
END:VCALENDAR
