BEGIN:VCALENDAR
VERSION:2.0
CALSCALE:GREGORIAN
PRODID:-//Diputació de Barcelona//DibaCMS//EN
BEGIN:VEVENT
UID:5874
DTSTAMP:20260424T053722
DTSTART:20170727T203000
DTEND:20170727T203000
SUMMARY:Contes en pijama- Estels a la Biblioteca
LOCATION:
METHOD:PUBLISH
X-WR-CALNAME:ajuntament@santfost.cat
X-WR-TIMEZONE:Europe/Madrid
DESCRIPTION:
URI:https://www.santfost.cat/actualitat/agenda/contes-en-pijama-estels-a-la-biblioteca.html
CLASS:PUBLIC
END:VEVENT
END:VCALENDAR
