BEGIN:VCALENDAR
VERSION:2.0
CALSCALE:GREGORIAN
PRODID:-//Diputació de Barcelona//DibaCMS//EN
BEGIN:VEVENT
UID:5877
DTSTAMP:20260424T041742
DTSTART:20170727T200000
DTEND:20170727T200000
SUMMARY:Partit Festa Major Colla Gunis vs Farolillos
LOCATION:
METHOD:PUBLISH
X-WR-CALNAME:ajuntament@santfost.cat
X-WR-TIMEZONE:Europe/Madrid
DESCRIPTION:
URI:https://www.santfost.cat/actualitat/agenda/partit-festa-major-colla-gunis-vs-farolillos.html
CLASS:PUBLIC
END:VEVENT
END:VCALENDAR
