BEGIN:VCALENDAR
VERSION:2.0
CALSCALE:GREGORIAN
PRODID:-//Diputació de Barcelona//DibaCMS//EN
BEGIN:VEVENT
UID:5880
DTSTAMP:20260424T003701
DTSTART:20170727T230000
DTEND:20170727T230000
SUMMARY:Chill Out i bany nocturn
LOCATION:
METHOD:PUBLISH
X-WR-CALNAME:ajuntament@santfost.cat
X-WR-TIMEZONE:Europe/Madrid
DESCRIPTION:
URI:https://www.santfost.cat/actualitat/agenda/5880-chill-out-i-bany-nocturn.html
CLASS:PUBLIC
END:VEVENT
END:VCALENDAR
