BEGIN:VCALENDAR
VERSION:2.0
CALSCALE:GREGORIAN
PRODID:-//Diputació de Barcelona//DibaCMS//EN
BEGIN:VEVENT
UID:5881
DTSTAMP:20260424T051943
DTSTART:20170728T103000
DTEND:20170728T103000
SUMMARY:Tirolina,rocòdrom i bany a la piscina
LOCATION:
METHOD:PUBLISH
X-WR-CALNAME:ajuntament@santfost.cat
X-WR-TIMEZONE:Europe/Madrid
DESCRIPTION:
URI:https://www.santfost.cat/actualitat/agenda/tirolinarocodrom-i-bany-a-la-piscina.html
CLASS:PUBLIC
END:VEVENT
END:VCALENDAR
