BEGIN:VCALENDAR
VERSION:2.0
CALSCALE:GREGORIAN
PRODID:-//Diputació de Barcelona//DibaCMS//EN
BEGIN:VEVENT
UID:5883
DTSTAMP:20260424T034727
DTSTART:20170728T183000
DTEND:20170728T183000
SUMMARY:Circ: NI cap ni peus
LOCATION:
METHOD:PUBLISH
X-WR-CALNAME:ajuntament@santfost.cat
X-WR-TIMEZONE:Europe/Madrid
DESCRIPTION:
URI:https://www.santfost.cat/actualitat/agenda/circ-ni-cap-ni-peus.html
CLASS:PUBLIC
END:VEVENT
END:VCALENDAR
