BEGIN:VCALENDAR
VERSION:2.0
CALSCALE:GREGORIAN
PRODID:-//Diputació de Barcelona//DibaCMS//EN
BEGIN:VEVENT
UID:5890
DTSTAMP:20260424T003959
DTSTART:20170728T040000
DTEND:20170728T040000
SUMMARY:ESPAI Dj Del Salón a la Discoteque
LOCATION:
METHOD:PUBLISH
X-WR-CALNAME:ajuntament@santfost.cat
X-WR-TIMEZONE:Europe/Madrid
DESCRIPTION:
URI:https://www.santfost.cat/actualitat/agenda/espai-dj-del-salon-a-la-discoteque.html
CLASS:PUBLIC
END:VEVENT
END:VCALENDAR
