BEGIN:VCALENDAR
VERSION:2.0
CALSCALE:GREGORIAN
PRODID:-//Diputació de Barcelona//DibaCMS//EN
BEGIN:VEVENT
UID:5892
DTSTAMP:20260423T201054
DTSTART:20170729T100000
DTEND:20170729T100000
SUMMARY:Torneig 12 hores de Frontó Sant Fost
LOCATION:
METHOD:PUBLISH
X-WR-CALNAME:ajuntament@santfost.cat
X-WR-TIMEZONE:Europe/Madrid
DESCRIPTION:
URI:https://www.santfost.cat/actualitat/agenda/5892-torneig-12-hores-de-fronto-sant-fost.html
CLASS:PUBLIC
END:VEVENT
END:VCALENDAR
