BEGIN:VCALENDAR
VERSION:2.0
CALSCALE:GREGORIAN
PRODID:-//Diputació de Barcelona//DibaCMS//EN
BEGIN:VEVENT
UID:5894
DTSTAMP:20260423T215541
DTSTART:20170729T110000
DTEND:20170729T110000
SUMMARY:Combo jocs gegants i Festa de l'Escuma
LOCATION:
METHOD:PUBLISH
X-WR-CALNAME:ajuntament@santfost.cat
X-WR-TIMEZONE:Europe/Madrid
DESCRIPTION:
URI:https://www.santfost.cat/actualitat/agenda/combo-jocs-gegants-i-festa-de-lescuma.html
CLASS:PUBLIC
END:VEVENT
END:VCALENDAR
