BEGIN:VCALENDAR
VERSION:2.0
CALSCALE:GREGORIAN
PRODID:-//Diputació de Barcelona//DibaCMS//EN
BEGIN:VEVENT
UID:5898
DTSTAMP:20260423T201125
DTSTART:20170729T000000
DTEND:20170729T000000
SUMMARY:Música i ambient jove
LOCATION:
METHOD:PUBLISH
X-WR-CALNAME:ajuntament@santfost.cat
X-WR-TIMEZONE:Europe/Madrid
DESCRIPTION:
URI:https://www.santfost.cat/actualitat/agenda/5898-musica-i-ambient-jove.html
CLASS:PUBLIC
END:VEVENT
END:VCALENDAR
