BEGIN:VCALENDAR
VERSION:2.0
CALSCALE:GREGORIAN
PRODID:-//Diputació de Barcelona//DibaCMS//EN
BEGIN:VEVENT
UID:5903
DTSTAMP:20260424T051329
DTSTART:20170730T090000
DTEND:20170730T090000
SUMMARY:Trial Social Motoclub centpeus
LOCATION:
METHOD:PUBLISH
X-WR-CALNAME:ajuntament@santfost.cat
X-WR-TIMEZONE:Europe/Madrid
DESCRIPTION:
URI:https://www.santfost.cat/actualitat/agenda/trial-social-motoclub-centpeus.html
CLASS:PUBLIC
END:VEVENT
END:VCALENDAR
